BEGIN:VCALENDAR
VERSION:2.0
PRODID:-//ImaginArte Gallery - ECPv6.8.3//NONSGML v1.0//EN
CALSCALE:GREGORIAN
METHOD:PUBLISH
X-ORIGINAL-URL:https://imaginartegallery.com
X-WR-CALDESC:Eventos para ImaginArte Gallery
REFRESH-INTERVAL;VALUE=DURATION:PT1H
X-Robots-Tag:noindex
X-PUBLISHED-TTL:PT1H
BEGIN:VTIMEZONE
TZID:Europe/Madrid
BEGIN:DAYLIGHT
TZOFFSETFROM:+0100
TZOFFSETTO:+0200
TZNAME:CEST
DTSTART:20220327T010000
END:DAYLIGHT
BEGIN:STANDARD
TZOFFSETFROM:+0200
TZOFFSETTO:+0100
TZNAME:CET
DTSTART:20221030T010000
END:STANDARD
END:VTIMEZONE
BEGIN:VEVENT
DTSTART;TZID=Europe/Madrid:20221215T193000
DTEND;TZID=Europe/Madrid:20221215T210000
DTSTAMP:20260425T025813
CREATED:20221127T195116Z
LAST-MODIFIED:20221128T151730Z
UID:6276-1671132600-1671138000@imaginartegallery.com
SUMMARY:Mercado de Arte Navideño 2022
DESCRIPTION:Como cada año\, imaginarte inaugura su mercado navideño con más de 100 artistas con diferentes técnicas\, artesanías y modalidades\, donde poder adquirir regalos originales hechos a mano\, que promueven el consumo responsable\, y que con cada compra se apoyan artistas internacionales a promocionar su carrera y poder seguir aportando valor y tradición a la cultura del pueblo.
URL:https://imaginartegallery.com/evento/mercadillo-navideno-2022/
LOCATION:ImaginArte Gallery\, Dante Alighieri 157\, Barcelona\, Barcelona\, 08032\, España
ATTACH;FMTTYPE=image/png:https://imaginartegallery.com/wp-content/uploads/2022/11/Mercado-de-Arte-Navideno-inv-1-1.png
ORGANIZER;CN="ImaginArte Gallery":MAILTO:info@imaginartegallery.com
END:VEVENT
END:VCALENDAR