BEGIN:VCALENDAR
VERSION:2.0
PRODID:-//ImaginArte Gallery - ECPv6.8.3//NONSGML v1.0//EN
CALSCALE:GREGORIAN
METHOD:PUBLISH
X-ORIGINAL-URL:https://imaginartegallery.com
X-WR-CALDESC:Eventos para ImaginArte Gallery
REFRESH-INTERVAL;VALUE=DURATION:PT1H
X-Robots-Tag:noindex
X-PUBLISHED-TTL:PT1H
BEGIN:VTIMEZONE
TZID:Europe/Madrid
BEGIN:DAYLIGHT
TZOFFSETFROM:+0100
TZOFFSETTO:+0200
TZNAME:CEST
DTSTART:20230326T010000
END:DAYLIGHT
BEGIN:STANDARD
TZOFFSETFROM:+0200
TZOFFSETTO:+0100
TZNAME:CET
DTSTART:20231029T010000
END:STANDARD
END:VTIMEZONE
BEGIN:VEVENT
DTSTART;TZID=Europe/Madrid:20230401T180000
DTEND;TZID=Europe/Madrid:20230413T200000
DTSTAMP:20260425T155623
CREATED:20230226T104612Z
LAST-MODIFIED:20230226T104612Z
UID:6706-1680372000-1681416000@imaginartegallery.com
SUMMARY:ENIGMAS  Zaragoza Exposición colectiva de arte contemporáneo
DESCRIPTION:¡Un lugar lleno de historia!\nUna ciudad abierta\, acogedora y siempre adelantada\, donde el cierzo hace que el carácter de los zaragozanos sea más tenaz y emprendedor. Con cerca de 700.000 habitantes\, la capital aragonesa se erige en una de las ciudades más modernas y cómodas de España.\nSi alguien quiere entender la obra de Francisco de Goya y su particular desarrollo\, necesariamente tendrá que venir a conocer Aragón\, su tierra y especialmente\, Zaragoza\, donde se pueden contemplar la mayor parte de sus escasas obras de juventud. En ellas podemos descubrir a un artista en construcción\, que aprende a pintar como sus primeros maestros y que se adapta a las exigencias de sus clientes\, pero que\, poco a poco\, va experimentando y mostrando la genialidad que posteriormente definirá su pintura.\nZaragoza cuenta con museos que albergan magníficas colecciones de piezas representativas de la época de esplendor de la Corona de Aragón (siglos XIV y XV). A lo largo del siglo XV\, los modelos franceses dan paso a las nuevas formas italianas\, flamencas y germánicas. De 1435-1445\, es el magnífico Ángel custodio de Zaragoza\, realizado por Pere Johan\, escultura en alabastro policromado realizada para la Diputación del Reino. \n¡Y hay muchas más razones para compartir y descubrir el arte en familia! \nGalería “Arte por un tubo”\nComisario: María Victoria Serna Bossel
URL:https://imaginartegallery.com/evento/exposicion-enigmas-arte-contemporaneo-internacional/
LOCATION:Galería Arte por un Tubo\, C. de José Pellicer Ossau\, 4\, Zaragoza\, Zaragoza\, 50003\, España
ATTACH;FMTTYPE=image/png:https://imaginartegallery.com/wp-content/uploads/2023/02/IMAGEN-PRINCIPAL.png
ORGANIZER;CN="ImaginArte Gallery":MAILTO:info@imaginartegallery.com
END:VEVENT
END:VCALENDAR