BEGIN:VCALENDAR
VERSION:2.0
PRODID:-//ImaginArte Gallery - ECPv6.8.3//NONSGML v1.0//EN
CALSCALE:GREGORIAN
METHOD:PUBLISH
X-ORIGINAL-URL:http://imaginartegallery.com
X-WR-CALDESC:Eventos para ImaginArte Gallery
REFRESH-INTERVAL;VALUE=DURATION:PT1H
X-Robots-Tag:noindex
X-PUBLISHED-TTL:PT1H
BEGIN:VTIMEZONE
TZID:Europe/Madrid
BEGIN:DAYLIGHT
TZOFFSETFROM:+0100
TZOFFSETTO:+0200
TZNAME:CEST
DTSTART:20240331T010000
END:DAYLIGHT
BEGIN:STANDARD
TZOFFSETFROM:+0200
TZOFFSETTO:+0100
TZNAME:CET
DTSTART:20241027T010000
END:STANDARD
END:VTIMEZONE
BEGIN:VEVENT
DTSTART;TZID=Europe/Madrid:20241125T160000
DTEND;TZID=Europe/Madrid:20241125T210000
DTSTAMP:20260422T194528
CREATED:20240430T135643Z
LAST-MODIFIED:20240430T144105Z
UID:7504-1732550400-1732568400@imaginartegallery.com
SUMMARY:QUIAF 2024 - 6TH EDITION OF THE LARGEST ART FESTIVAL IN QATAR
DESCRIPTION:En QIAF 2024\, la Ciencia del “ARTE” hacia la sostenibilidad y la Responsabilidad Ambiental tiene como objetivo extender el horizonte creativo del arte más allá del lienzo hacia la creatividad y la cultura.  \nEn el mundo actual\, donde la diferencia entre la realidad y la ficción suele ser translúcida\, darnos cuenta de la responsabilidad hacia nuestras vidas y la sociedad puede ser un desafío.  \nQatar es un país con una rica diversidad cultural y el festival atrae a artistas de todo el mundo. Participar en QIAF permite a los artistas interactuar con diversas perspectivas y estilos artísticos\, lo que puede enriquecer su propia práctica creativa. \nCon la participación de un grupo diverso de artistas de más de 65 países de todo el mundo\, incluidos talentos emergentes y maestros establecidos\, el festival muestra una amplia gama de disciplinas artísticas\, desde escultura y pintura hasta instalaciones digitales y escultóricas. QIAF reúne a artistas globales\, expertos y conocedores del arte\, críticos de arte y académicos de arte de la región. \nDesinhibido y sin prejuicios\, el stand de ImaginArte ofrece una mezcla inteligente entre tu arte favorito\, el arte súper accesible y la representación artística más variada para los ojos del espectador. \nAcompaña a nuestra dire\, recién nombrada “Embajadora del QIAF por España”.\n \n¡Muchas razones para compartir y descubrir el arte para todos!  \nComisariado por María Victoria Serna Bossel
URL:http://imaginartegallery.com/evento/quiaf-qatar-international-art-festival/
LOCATION:QIAF 2024 – Villa Cultural Katana\, Katara Cultural Village\, Doha\, Qatar
ATTACH;FMTTYPE=image/png:http://imaginartegallery.com/wp-content/uploads/2024/04/IMAGEN-PRINCIPAL-QATAR.png
ORGANIZER;CN="ImaginArte Gallery":MAILTO:info@imaginartegallery.com
END:VEVENT
END:VCALENDAR