BEGIN:VCALENDAR
VERSION:2.0
PRODID:-//ImaginArte Gallery - ECPv6.8.3//NONSGML v1.0//EN
CALSCALE:GREGORIAN
METHOD:PUBLISH
X-ORIGINAL-URL:http://imaginartegallery.com
X-WR-CALDESC:Eventos para ImaginArte Gallery
REFRESH-INTERVAL;VALUE=DURATION:PT1H
X-Robots-Tag:noindex
X-PUBLISHED-TTL:PT1H
BEGIN:VTIMEZONE
TZID:Europe/Madrid
BEGIN:DAYLIGHT
TZOFFSETFROM:+0100
TZOFFSETTO:+0200
TZNAME:CEST
DTSTART:20230326T010000
END:DAYLIGHT
BEGIN:STANDARD
TZOFFSETFROM:+0200
TZOFFSETTO:+0100
TZNAME:CET
DTSTART:20231029T010000
END:STANDARD
END:VTIMEZONE
BEGIN:VEVENT
DTSTART;TZID=Europe/Madrid:20230825T190000
DTEND;TZID=Europe/Madrid:20230825T210000
DTSTAMP:20260421T122802
CREATED:20221127T201911Z
LAST-MODIFIED:20230213T172016Z
UID:6299-1692990000-1692997200@imaginartegallery.com
SUMMARY:ART3F MÓNACO Salón de arte contemporáneo
DESCRIPTION:¡Un lugar de ensueño!\nEl Principado de Mónaco\, conocido por sus muchas películas y sus calles llenas de obras de arte\, el icónico casino de Montecarlo o la celebración más grande de la fórmula 1. Este estado soberano que se encuentra en Francia\, muy cerca de la frontera con Italia\, es el encargado de acoger numerosos festivales de arte en primavera-verano entre ellos el salón de arte contemporáneo de ART3F donde ImaginArte presentará artistas internacionales.\nPara esta nueva edición monegasca\, el evento que contará con un área de catering fuera de las carpas permitirá a todos tomar un descanso gourmet y refrescarse en un ambiente francamente cálido y relajado donde compartir intercambios reales con artistas y galerías. \nSin prejuicios y desinhibido\, el stand de ImaginArte en art3f es una mezcla inteligente entre tu arte favorito\, el arte súper accesible y la representación artística más variada. \n¡Muchas razones para compartir y descubrir el arte en familia! \nEl stand de ImaginArte estará comisariado por María Victoria Serna Bossel \nLa entrada general a la feria tiene un coste de 7€\, gestionado por ART3F.
URL:http://imaginartegallery.com/evento/art3f-salon-de-arte-contemporaneo-de-monaco-2023/
LOCATION:Chapiteau de Fontvieille\, 5 Avenue des Ligures\, Mónaco\, Mónaco\, 98000\, España
ATTACH;FMTTYPE=image/png:http://imaginartegallery.com/wp-content/uploads/2023/02/Monaco.png
ORGANIZER;CN="ImaginArte Gallery":MAILTO:info@imaginartegallery.com
END:VEVENT
END:VCALENDAR